BEGIN:VCALENDAR
VERSION:2.0
PRODID:-//ChamberMaster//Event Calendar 2.0//EN
METHOD:PUBLISH
X-PUBLISHED-TTL:P1H
REFRESH-INTERVAL:P1H
CALSCALE:GREGORIAN
BEGIN:VTIMEZONE
TZID:Australia/Sydney
BEGIN:DAYLIGHT
RRULE:FREQ=YEARLY;BYMONTH=10;BYDAY=1SU
DTSTART:20080101T000000
TZOFFSETFROM:1000
TZOFFSETTO:1100
TZNAME:AUS Eastern Daylight Time
END:DAYLIGHT
BEGIN:STANDARD
RRULE:FREQ=YEARLY;BYMONTH=4;BYDAY=1SU
DTSTART:20080101T000000
TZOFFSETFROM:1100
TZOFFSETTO:1000
TZNAME:AUS Eastern Standard Time
END:STANDARD
END:VTIMEZONE
BEGIN:VEVENT
DTSTART;TZID=Australia/Sydney:20260522T100000
DTEND;TZID=Australia/Sydney:20260522T120000
X-MICROSOFT-CDO-ALLDAYEVENT:FALSE
SUMMARY:The Unbreakable Farmer
DESCRIPTION:The Unbreakable Farmer with Warren Davies and Wagga Wagga City Council\nThe Wagga Wagga Business Chamber\, in partnership with Wagga Wagga City Council\, invites local business owners and professionals to a powerful and practical session with Warren Davies\, one of Australia's leading voices in rural mental health and resilience.Drawing on his lived experience across farming\, business pressures\, and personal adversity\, Warren delivers real-world insights into how stress and uncertainty impact decision-making\, leadership\, and long-term business sustainability. This session goes beyond theory\, offering practical strategies to build resilience\, support your team\, and navigate the ongoing pressures of running a business.In today's fast-paced and often unpredictable environment\, strong mental wellbeing is not just a personal priority\, it is a critical business asset. This event is an opportunity to step back\, reflect\, and gain tools to strengthen both your own resilience and that of your workplace.Cost: Free to attend\, with RSVP appreciated for catering purposes.Please register via this link https://events.humanitix.com/the-unbreakable-farmer-or-civic-theatre-upper-foyer To view the full program of local events\, practical training and real conversations about mental health visit the   Weathering Well website.This event is led by Wagga Wagga City Council in partnership with Lockhart Shire Council and jointly funded through the Australian Government's Future Drought Fund and the NSW Government.
X-ALT-DESC;FMTTYPE=text/html:<!DOCTYPE html><html><head><title></title></head><body aria-disabled="false"><p data-end="405" data-start="149"><strong fr-original-style="" style="font-weight: 700\;">The Unbreakable Farmer with Warren Davies and Wagga Wagga City Council<br></strong></p><p data-end="405" data-start="149">The Wagga Wagga Business Chamber\, in partnership with Wagga Wagga City Council\, invites local business owners and professionals to a powerful and practical session with Warren Davies\, one of Australia&rsquo\;s leading voices in rural mental health and resilience.</p><p data-end="802" data-start="407">Drawing on his lived experience across farming\, business pressures\, and personal adversity\, Warren delivers real-world insights into how stress and uncertainty impact decision-making\, leadership\, and long-term business sustainability. This session goes beyond theory\, offering practical strategies to build resilience\, support your team\, and navigate the ongoing pressures of running a business.</p><p data-end="1086" data-start="804">In today&rsquo\;s fast-paced and often unpredictable environment\, strong mental wellbeing is not just a personal priority\, it is a critical business asset. This event is an opportunity to step back\, reflect\, and gain tools to strengthen both your own resilience and that of your workplace.</p><p data-end="1158" data-start="1088"><strong data-end="1097" data-start="1088" fr-original-style="" style="font-weight: 700\;">Cost:</strong> Free to attend\, with RSVP appreciated for catering purposes.</p><p data-end="1671" data-start="1484"><strong fr-original-style="" style="font-weight: 700\;">Please register via this link</strong> <a fr-original-style="" href="https://events.humanitix.com/the-unbreakable-farmer-or-civic-theatre-upper-foyer" style="user-select: auto\;">https://events.humanitix.com/the-unbreakable-farmer-or-civic-theatre-upper-foyer</a>&nbsp\;</p><p data-end="1671" data-start="1484">To view the full program of local events\, practical training and real conversations about mental health visit the &nbsp\; Weathering Well <a fr-original-style="" href="https://wagga.nsw.gov.au/community/health-and-safety/weathering-well" style="user-select: auto\;">website.</a></p><p data-end="1671" data-start="1484"><em>This event is led by Wagga Wagga City Council in partnership with Lockhart Shire Council and jointly funded through the Australian Government&rsquo\;s Future Drought Fund and the NSW Government.</em></p></body></html>
LOCATION:Burns Way (off Tarcutta Street) Wagga Wagga New South Wales 2650
UID:e.2150.1432587
SEQUENCE:3
DTSTAMP:20260426T035656Z
URL:https://members.waggachamber.com.au/events/Details/the-unbreakable-farmer-1695499?sourceTypeId=Hub
END:VEVENT
END:VCALENDAR
