BEGIN:VCALENDAR
VERSION:2.0
PRODID:-//ChamberMaster//Event Calendar 2.0//EN
METHOD:PUBLISH
X-PUBLISHED-TTL:P1H
REFRESH-INTERVAL:P1H
CALSCALE:GREGORIAN
BEGIN:VTIMEZONE
TZID:Australia/Sydney
BEGIN:DAYLIGHT
RRULE:FREQ=YEARLY;BYMONTH=10;BYDAY=1SU
DTSTART:20080101T000000
TZOFFSETFROM:1000
TZOFFSETTO:1100
TZNAME:AUS Eastern Daylight Time
END:DAYLIGHT
BEGIN:STANDARD
RRULE:FREQ=YEARLY;BYMONTH=4;BYDAY=1SU
DTSTART:20080101T000000
TZOFFSETFROM:1100
TZOFFSETTO:1000
TZNAME:AUS Eastern Standard Time
END:STANDARD
END:VTIMEZONE
BEGIN:VEVENT
DTSTART;TZID=Australia/Sydney:20260507T100000
DTEND;TZID=Australia/Sydney:20260507T120000
X-MICROSOFT-CDO-ALLDAYEVENT:FALSE
SUMMARY:Business Development Series: AI for Beginners
DESCRIPTION:Business Development Series: AI for BeginnersThis session is part of our Business Development Series\, a four-part workshop program supporting businesses across the Wagga LGA. Delivered in collaboration between Wagga Wagga City Council and the Wagga Wagga Business Chamber\, this is Workshop One in the series\, designed to build practical skills you can apply immediately\, with future sessions continuing to support your growth.Join us on Thursday 7 May for a practical\, beginner-friendly workshop designed to help you build confidence using artificial intelligence in your business.This hands-on session will introduce simple\, accessible AI tools that can support your day-to-day operations\, from creating content to improving efficiency. You'll explore how tools like ChatGPT and Microsoft Copilot can be used to:  Generate clear\, effective written content using simple prompting techniques\n  Create and edit images\, including basic infographics\n  Develop videos for training\, marketing\, and communication\n  Understand how to identify AI-generated text and images\n  Explore basic automation tools for tasks like social media and website SEOWe'll also include a short discussion on the opportunities and considerations of AI across different industries\, along with time for audience questions to ensure you can apply what you learn in a practical way.Designed for beginners\, participants are encouraged to bring a laptop and follow along. Morning tea will be provided.This FREE event is open to both members and non-members.
X-ALT-DESC;FMTTYPE=text/html:<!DOCTYPE html><html><head><title></title></head><body aria-disabled="false"><p><strong fr-original-style="" style="font-weight: 700\;">Business Development Series: AI for Beginners</strong></p><p data-end="810" data-start="421"><em>This session is part of our Business Development Series\, a four-part workshop program supporting businesses across the Wagga LGA. Delivered in collaboration between Wagga Wagga City Council and the Wagga Wagga Business Chamber\, this is Workshop One in the series\, designed to build practical skills you can apply immediately\, with future sessions continuing to support your growth.</em></p><p data-end="270" data-start="115">Join us on Thursday 7 May for a practical\, beginner-friendly workshop designed to help you build confidence using artificial intelligence in your business.</p><p data-end="504" data-start="272">This hands-on session will introduce simple\, accessible AI tools that can support your day-to-day operations\, from creating content to improving efficiency. You&rsquo\;ll explore how tools like ChatGPT and Microsoft Copilot can be used to:</p><p data-end="843" data-start="506">&bull\; Generate clear\, effective written content using simple prompting techniques<br data-start="583" data-end="586">&bull\; Create and edit images\, including basic infographics<br data-start="640" data-end="643">&bull\; Develop videos for training\, marketing\, and communication<br data-start="702" data-end="705">&bull\; Understand how to identify AI-generated text and images<br data-start="762" data-end="765">&bull\; Explore basic automation tools for tasks like social media and website SEO</p><p data-end="1055" data-start="845">We&rsquo\;ll also include a short discussion on the opportunities and considerations of AI across different industries\, along with time for audience questions to ensure you can apply what you learn in a practical way.</p><p data-end="1183" data-start="1057">Designed for beginners\, participants are encouraged to bring a laptop and follow along. Morning tea will be provided.</p><p><strong fr-original-style="" style="font-weight: 700\;">This FREE event is open to both members and non-members.</strong></p></body></html>
LOCATION:Edward Street Wagga Wagga 2650
UID:e.2150.1432547
SEQUENCE:3
DTSTAMP:20260426T035416Z
URL:https://members.waggachamber.com.au/events/Details/business-development-series-ai-for-beginners-1695459?sourceTypeId=Hub
END:VEVENT
END:VCALENDAR
